BEGIN:VCALENDAR
VERSION:2.0
PRODID:-//Arditti Quartet - ECPv6.15.15//NONSGML v1.0//EN
CALSCALE:GREGORIAN
METHOD:PUBLISH
X-WR-CALNAME:Arditti Quartet
X-ORIGINAL-URL:https://ardittiquartet.com
X-WR-CALDESC:Events for Arditti Quartet
REFRESH-INTERVAL;VALUE=DURATION:PT1H
X-Robots-Tag:noindex
X-PUBLISHED-TTL:PT1H
BEGIN:VTIMEZONE
TZID:UTC
BEGIN:STANDARD
TZOFFSETFROM:+0000
TZOFFSETTO:+0000
TZNAME:UTC
DTSTART:20200101T000000
END:STANDARD
END:VTIMEZONE
BEGIN:VEVENT
DTSTART;TZID=UTC:20211015T201500
DTEND;TZID=UTC:20211015T220000
DTSTAMP:20260425T114649
CREATED:20211014T073231Z
LAST-MODIFIED:20211014T073231Z
UID:4502-1634328900-1634335200@ardittiquartet.com
SUMMARY:El Contemporáneo\, del Festival Internacional de Música de Canarias 15 October 2021
DESCRIPTION:Concert in Teatro Guiniguada\, Las Palmas \nBerg Quartet Op.3\, Rihm Quartet 3\, Ligeti Quartet 2
URL:https://ardittiquartet.com/event/el-contemporaneo-del-festival-internacional-de-musica-de-canarias-15-october-2021
CATEGORIES:Quartet Concert
END:VEVENT
END:VCALENDAR