BEGIN:VCALENDAR
VERSION:2.0
PRODID:-//Arditti Quartet - ECPv6.15.15//NONSGML v1.0//EN
CALSCALE:GREGORIAN
METHOD:PUBLISH
X-ORIGINAL-URL:https://ardittiquartet.com
X-WR-CALDESC:Events for Arditti Quartet
REFRESH-INTERVAL;VALUE=DURATION:PT1H
X-Robots-Tag:noindex
X-PUBLISHED-TTL:PT1H
BEGIN:VTIMEZONE
TZID:UTC
BEGIN:STANDARD
TZOFFSETFROM:+0000
TZOFFSETTO:+0000
TZNAME:UTC
DTSTART:20200101T000000
END:STANDARD
END:VTIMEZONE
BEGIN:VEVENT
DTSTART;TZID=UTC:20210530T183000
DTEND;TZID=UTC:20210530T183000
DTSTAMP:20260425T022735
CREATED:20210415T180049Z
LAST-MODIFIED:20210526T051509Z
UID:4230-1622399400-1622399400@ardittiquartet.com
SUMMARY:Festival June in Buffalo\, from Dresden\, Germany  30 May 2021
DESCRIPTION:Concert in Zentralwerk\, Dresden 17.00 \nParedes Hacia una Bitacora Capilar\nPlatz Strings (Echo VIII)\nFerneyhough Dum Transissets I-IV\nFelder Stuck- Stücke \nThis concert will be filmed and shown on the University of Buffalo website during the Festival June in Buffalo
URL:https://ardittiquartet.com/event/lippes-concert-hall-festival-june-in-buffalo-usa-10-june-2021
LOCATION:Lippes Concert Hall
CATEGORIES:Quartet Concert
END:VEVENT
END:VCALENDAR