BEGIN:VCALENDAR
VERSION:2.0
PRODID:-//Arditti Quartet - ECPv6.15.15//NONSGML v1.0//EN
CALSCALE:GREGORIAN
METHOD:PUBLISH
X-ORIGINAL-URL:https://ardittiquartet.com
X-WR-CALDESC:Events for Arditti Quartet
REFRESH-INTERVAL;VALUE=DURATION:PT1H
X-Robots-Tag:noindex
X-PUBLISHED-TTL:PT1H
BEGIN:VTIMEZONE
TZID:UTC
BEGIN:STANDARD
TZOFFSETFROM:+0000
TZOFFSETTO:+0000
TZNAME:UTC
DTSTART:20200101T000000
END:STANDARD
END:VTIMEZONE
BEGIN:VEVENT
DTSTART;TZID=UTC:20210526T183000
DTEND;TZID=UTC:20210529T183000
DTSTAMP:20260425T022735
CREATED:20210415T153032Z
LAST-MODIFIED:20210526T051424Z
UID:4398-1622053800-1622313000@ardittiquartet.com
SUMMARY:Dresden Hochschule\, 26 May 2021
DESCRIPTION:Concert of premieres from young composers 18.30 \nDaniel Muñoz-Osorio Fragments triats \nMaline  Euen Den letzten Kolibri nimmst mir nicht \nOle Hübner trauma und Zwischenraum 2 \nBeniamino Fiorini Kontaktlos \nWoojung Kang Hailing \nVolker Sondermann Heterophonie \nElias Jurgschat gebrauchen (Bett) \nVolker Sondermann Heterophonie \nThis concert will be streamed live on the following link \nhttps://youtu.be/Hr7pZmaAnXU
URL:https://ardittiquartet.com/event/dresden-hochschule-26-may-2021
CATEGORIES:Quartet Concert
END:VEVENT
BEGIN:VEVENT
DTSTART;TZID=UTC:20210528T133000
DTEND;TZID=UTC:20210529T140000
DTSTAMP:20260425T022735
CREATED:20210415T170036Z
LAST-MODIFIED:20210523T121101Z
UID:3666-1622208600-1622296800@ardittiquartet.com
SUMMARY:Festival June in Buffalo\, from Dresden  28\, 29 May 2021
DESCRIPTION:Festival June in Buffalo (from Dresden by Zoom)\nEmerging composers reading session\nJohn Aulich Slacken tired shrouds                                                  Alex Buehler Wateriness and Weariness                                                James Falzone Quartet no.3 A curving abacus                          Axel Retif  Jo-Ha-Kyu                                                               Diego Rocha Standing Waves                                                        Tsu-Yao-Yang Bleu II                                                            Lihuen Sirvent Victoria Pirrica for solo violin \n 
URL:https://ardittiquartet.com/event/buffalo-usa
LOCATION:University of Buffalo\, United States
CATEGORIES:Quartet Concert
END:VEVENT
END:VCALENDAR