BEGIN:VCALENDAR
VERSION:2.0
PRODID:-//Arditti Quartet - ECPv6.15.15//NONSGML v1.0//EN
CALSCALE:GREGORIAN
METHOD:PUBLISH
X-WR-CALNAME:Arditti Quartet
X-ORIGINAL-URL:https://ardittiquartet.com
X-WR-CALDESC:Events for Arditti Quartet
REFRESH-INTERVAL;VALUE=DURATION:PT1H
X-Robots-Tag:noindex
X-PUBLISHED-TTL:PT1H
BEGIN:VTIMEZONE
TZID:UTC
BEGIN:STANDARD
TZOFFSETFROM:+0000
TZOFFSETTO:+0000
TZNAME:UTC
DTSTART:20200101T000000
END:STANDARD
END:VTIMEZONE
BEGIN:VEVENT
DTSTART;TZID=UTC:20210517T193000
DTEND;TZID=UTC:20210517T193000
DTSTAMP:20260425T020345
CREATED:20210112T164614Z
LAST-MODIFIED:20210312T151912Z
UID:3654-1621279800-1621279800@ardittiquartet.com
SUMMARY:Wigmore Hall\, London 17 May 2021
DESCRIPTION:Ichiro Nodaira: Quartet No.5\nThomas Larcher: quartet no.2 (IXXU)\nLuigi Nono: Fragmente Stille an Diotima
URL:https://ardittiquartet.com/event/london
LOCATION:Wigmore Hall
CATEGORIES:Quartet Concert
END:VEVENT
END:VCALENDAR