BEGIN:VCALENDAR
VERSION:2.0
PRODID:-//Arditti Quartet - ECPv6.15.15//NONSGML v1.0//EN
CALSCALE:GREGORIAN
METHOD:PUBLISH
X-WR-CALNAME:Arditti Quartet
X-ORIGINAL-URL:https://ardittiquartet.com
X-WR-CALDESC:Events for Arditti Quartet
REFRESH-INTERVAL;VALUE=DURATION:PT1H
X-Robots-Tag:noindex
X-PUBLISHED-TTL:PT1H
BEGIN:VTIMEZONE
TZID:UTC
BEGIN:STANDARD
TZOFFSETFROM:+0000
TZOFFSETTO:+0000
TZNAME:UTC
DTSTART:20200101T000000
END:STANDARD
END:VTIMEZONE
BEGIN:VEVENT
DTSTART;TZID=UTC:20210301T201500
DTEND;TZID=UTC:20210301T201500
DTSTAMP:20260425T004414
CREATED:20210112T145300Z
LAST-MODIFIED:20210408T145906Z
UID:3643-1614629700-1614629700@ardittiquartet.com
SUMMARY:Lausanne\, Switzerland  1 March 2021
DESCRIPTION:Betsy Jolas: quartet no. VIII Topeng\nToshio Hosokawa: Passage\nChristian Mason: This present moment used to be the unimaginable future
URL:https://ardittiquartet.com/event/lausanne-switzerland
LOCATION:Haute Ecole de Musique de Lausanne\, Rue de la Grotte 2\, Lausanne\, 1003\, Switzerland
CATEGORIES:Quartet Concert
END:VEVENT
END:VCALENDAR