BEGIN:VCALENDAR
VERSION:2.0
PRODID:-//Arditti Quartet - ECPv6.15.15//NONSGML v1.0//EN
CALSCALE:GREGORIAN
METHOD:PUBLISH
X-ORIGINAL-URL:https://ardittiquartet.com
X-WR-CALDESC:Events for Arditti Quartet
REFRESH-INTERVAL;VALUE=DURATION:PT1H
X-Robots-Tag:noindex
X-PUBLISHED-TTL:PT1H
BEGIN:VTIMEZONE
TZID:UTC
BEGIN:STANDARD
TZOFFSETFROM:+0000
TZOFFSETTO:+0000
TZNAME:UTC
DTSTART:20190101T000000
END:STANDARD
END:VTIMEZONE
BEGIN:VEVENT
DTSTART;TZID=UTC:20200916T200000
DTEND;TZID=UTC:20200916T200000
DTSTAMP:20260424T160251
CREATED:20201104T182133Z
LAST-MODIFIED:20210127T163844Z
UID:2618-1600286400-1600286400@ardittiquartet.com
SUMMARY:Valencia\, Spain
DESCRIPTION:Lopez-Lopez Quartet No.\nParra Leaves of Reality\nDutilleux Ainsi la Nuit\nLopez-Lopez Quartet No.2 (premiere)
URL:https://ardittiquartet.com/event/valencia-spain
LOCATION:Sala Martín i Soler/ Palau de les Arts\, Reina Sofia
CATEGORIES:Quartet Concert
END:VEVENT
END:VCALENDAR