BEGIN:VCALENDAR
VERSION:2.0
PRODID:-//Arditti Quartet - ECPv6.15.15//NONSGML v1.0//EN
CALSCALE:GREGORIAN
METHOD:PUBLISH
X-ORIGINAL-URL:https://ardittiquartet.com
X-WR-CALDESC:Events for Arditti Quartet
REFRESH-INTERVAL;VALUE=DURATION:PT1H
X-Robots-Tag:noindex
X-PUBLISHED-TTL:PT1H
BEGIN:VTIMEZONE
TZID:UTC
BEGIN:STANDARD
TZOFFSETFROM:+0000
TZOFFSETTO:+0000
TZNAME:UTC
DTSTART:20190101T000000
END:STANDARD
END:VTIMEZONE
BEGIN:VEVENT
DTSTART;TZID=UTC:20200829T193000
DTEND;TZID=UTC:20200829T193000
DTSTAMP:20260424T143614
CREATED:20201109T182133Z
LAST-MODIFIED:20220621T082903Z
UID:2615-1598729400-1598729400@ardittiquartet.com
SUMMARY:Weingarten\, Germany
DESCRIPTION:Nono Fragmente-Stille\nZender Mnemosyne\nHölderlin lesen IV
URL:https://ardittiquartet.com/event/weingarten-germany
LOCATION:Aula Pädagogische Hochschule
CATEGORIES:Quartet Concert
END:VEVENT
END:VCALENDAR