BEGIN:VCALENDAR
VERSION:2.0
PRODID:-//Arditti Quartet - ECPv6.15.15//NONSGML v1.0//EN
CALSCALE:GREGORIAN
METHOD:PUBLISH
X-ORIGINAL-URL:https://ardittiquartet.com
X-WR-CALDESC:Events for Arditti Quartet
REFRESH-INTERVAL;VALUE=DURATION:PT1H
X-Robots-Tag:noindex
X-PUBLISHED-TTL:PT1H
BEGIN:VTIMEZONE
TZID:UTC
BEGIN:STANDARD
TZOFFSETFROM:+0000
TZOFFSETTO:+0000
TZNAME:UTC
DTSTART:20210101T000000
END:STANDARD
END:VTIMEZONE
BEGIN:VEVENT
DTSTART;TZID=UTC:20220115T183000
DTEND;TZID=UTC:20220115T183000
DTSTAMP:20260425T155228
CREATED:20220108T151843Z
LAST-MODIFIED:20220108T152031Z
UID:4556-1642271400-1642271400@ardittiquartet.com
SUMMARY:Concert in Amphitheatre\, Cité de la Musique\, Quartet Biennale 15 January 2022
DESCRIPTION:Manoury Stringendo  \nClara Olivares Spatiphyllum’s Supreme Silence (premiere) \nManoury Melencolia
URL:https://ardittiquartet.com/event/concert-in-amphitheatre-cite-de-la-musique-quartet-biennale-15-january-2022-2
CATEGORIES:Quartet Concert
END:VEVENT
BEGIN:VEVENT
DTSTART;TZID=UTC:20220118T203000
DTEND;TZID=UTC:20220118T203000
DTSTAMP:20260425T155228
CREATED:20220108T150829Z
LAST-MODIFIED:20220108T151302Z
UID:4553-1642537800-1642537800@ardittiquartet.com
SUMMARY:Concert in Grand Saal\, Cité de la Musique\, Quartet Biennale 18 January 2022
DESCRIPTION:Manoury Fragmenti
URL:https://ardittiquartet.com/event/concert-in-amphitheatre-cite-de-la-musique-quartet-biennale-18-january-2022
CATEGORIES:Quartet Concert
END:VEVENT
END:VCALENDAR