BEGIN:VCALENDAR
VERSION:2.0
PRODID:-//Arditti Quartet - ECPv6.15.15//NONSGML v1.0//EN
CALSCALE:GREGORIAN
METHOD:PUBLISH
X-ORIGINAL-URL:https://ardittiquartet.com
X-WR-CALDESC:Events for Arditti Quartet
REFRESH-INTERVAL;VALUE=DURATION:PT1H
X-Robots-Tag:noindex
X-PUBLISHED-TTL:PT1H
BEGIN:VTIMEZONE
TZID:UTC
BEGIN:STANDARD
TZOFFSETFROM:+0000
TZOFFSETTO:+0000
TZNAME:UTC
DTSTART:20200101T000000
END:STANDARD
END:VTIMEZONE
BEGIN:VEVENT
DTSTART;TZID=UTC:20211109T193000
DTEND;TZID=UTC:20211109T213000
DTSTAMP:20260425T115247
CREATED:20211014T074411Z
LAST-MODIFIED:20211027T180658Z
UID:4509-1636486200-1636493400@ardittiquartet.com
SUMMARY:Concert in Wien Modern
DESCRIPTION:Musikverein\, Vienna \n(with Radio Symphony Orchestra Vienna/conductor Christian Karlsen) \nDillon The Gates for quartet and orchestra
URL:https://ardittiquartet.com/event/concert-in-wien-modern
CATEGORIES:Quartet Concert
END:VEVENT
BEGIN:VEVENT
DTSTART;TZID=UTC:20211121T160000
DTEND;TZID=UTC:20211121T173000
DTSTAMP:20260425T115247
CREATED:20211014T074750Z
LAST-MODIFIED:20211014T074750Z
UID:4511-1637510400-1637515800@ardittiquartet.com
SUMMARY:Concert in Huddersfield New Music Festival 21 November 2021
DESCRIPTION:Town Hall \nPelzel birds\, bells and bees  \nCzernowin Hidden \n 
URL:https://ardittiquartet.com/event/concert-in-huddersfield-new-music-festival
CATEGORIES:Quartet Concert
END:VEVENT
BEGIN:VEVENT
DTSTART;TZID=UTC:20211128T110000
DTEND;TZID=UTC:20211128T130000
DTSTAMP:20260425T115247
CREATED:20211014T075123Z
LAST-MODIFIED:20211014T075123Z
UID:4513-1638097200-1638104400@ardittiquartet.com
SUMMARY:Concert in Weingarten Festival  28 November 2021
DESCRIPTION:Aula Pädagogische Hochschule \nHosokawa Landscape I for quartet\, Threnody for the victims of Tsunami for viola\, Blossoming for quartet\, Small Chant for cello\, Silent Flowers for quartet\, Extasis for violin\, Passage for quartet
URL:https://ardittiquartet.com/event/concert-in-weingarten-festival-aula-padagogische-hochschule
CATEGORIES:Quartet Concert
END:VEVENT
END:VCALENDAR