BEGIN:VCALENDAR
VERSION:2.0
PRODID:-//Arditti Quartet - ECPv6.15.15//NONSGML v1.0//EN
CALSCALE:GREGORIAN
METHOD:PUBLISH
X-WR-CALNAME:Arditti Quartet
X-ORIGINAL-URL:https://ardittiquartet.com
X-WR-CALDESC:Events for Arditti Quartet
REFRESH-INTERVAL;VALUE=DURATION:PT1H
X-Robots-Tag:noindex
X-PUBLISHED-TTL:PT1H
BEGIN:VTIMEZONE
TZID:UTC
BEGIN:STANDARD
TZOFFSETFROM:+0000
TZOFFSETTO:+0000
TZNAME:UTC
DTSTART:20200101T000000
END:STANDARD
END:VTIMEZONE
BEGIN:VEVENT
DTSTART;TZID=UTC:20210613T170000
DTEND;TZID=UTC:20210613T170000
DTSTAMP:20260425T022458
CREATED:20210408T151932Z
LAST-MODIFIED:20210531T121348Z
UID:4359-1623603600-1623603600@ardittiquartet.com
SUMMARY:Lausanne\, Haute Ecole de Musique 13 June 2021
DESCRIPTION:Betsy Jolas: quartet no. VIII Topeng\nToshio Hosokawa: Passage\nChristian Mason: This present moment used to be the unimaginable future
URL:https://ardittiquartet.com/event/4359
CATEGORIES:Quartet Concert
END:VEVENT
BEGIN:VEVENT
DTSTART;TZID=UTC:20210615T193000
DTEND;TZID=UTC:20210615T193000
DTSTAMP:20260425T022458
CREATED:20210113T152052Z
LAST-MODIFIED:20210531T121319Z
UID:3668-1623785400-1623785400@ardittiquartet.com
SUMMARY:Basel\, Switzerland
DESCRIPTION:(with Jake Arditti\, counter-tenor)\nHans Werner Henze: Quartet No.5\nSalvatore Sciarrino: Cosa Resta\nJannik Giger: Oeil (premiere)\nHilda Paredes: Canciones Lunaticas
URL:https://ardittiquartet.com/event/basel-switzerland
LOCATION:Hans Huber Saal\, Stadtcasinos
CATEGORIES:Quartet Concert
END:VEVENT
BEGIN:VEVENT
DTSTART;TZID=UTC:20210620T170000
DTEND;TZID=UTC:20210620T170000
DTSTAMP:20260425T022458
CREATED:20210113T162032Z
LAST-MODIFIED:20210531T121417Z
UID:3694-1624208400-1624208400@ardittiquartet.com
SUMMARY:Edenkoben\, Germany
DESCRIPTION:Programme to include\nStylianos Dimou: en tranche (premiere)\nMichael Pelzel: Birds\, Bells and Bees (premiere) 
URL:https://ardittiquartet.com/event/edenkoben-germany-2
LOCATION:Herrenhaus\, Edenkoben
CATEGORIES:Quartet Concert
END:VEVENT
END:VCALENDAR