BEGIN:VCALENDAR
VERSION:2.0
PRODID:-//Arditti Quartet - ECPv6.15.15//NONSGML v1.0//EN
CALSCALE:GREGORIAN
METHOD:PUBLISH
X-WR-CALNAME:Arditti Quartet
X-ORIGINAL-URL:https://ardittiquartet.com
X-WR-CALDESC:Events for Arditti Quartet
REFRESH-INTERVAL;VALUE=DURATION:PT1H
X-Robots-Tag:noindex
X-PUBLISHED-TTL:PT1H
BEGIN:VTIMEZONE
TZID:UTC
BEGIN:STANDARD
TZOFFSETFROM:+0000
TZOFFSETTO:+0000
TZNAME:UTC
DTSTART:20200101T000000
END:STANDARD
END:VTIMEZONE
BEGIN:VEVENT
DTSTART;TZID=UTC:20210224T193000
DTEND;TZID=UTC:20210224T193000
DTSTAMP:20260424T203130
CREATED:20210111T145654Z
LAST-MODIFIED:20210408T145346Z
UID:3628-1614195000-1614195000@ardittiquartet.com
SUMMARY:Berlin\, Germany  24 February 2021
DESCRIPTION:(with Jake Arditti\, counter-tenor) \nJames Dillon: Quartet No.9\nHilda Paredes: Canciones Lunaticas \nHans Werner Henze Quartet No.5\nSalvatore Sciarrino: Cosa resta
URL:https://ardittiquartet.com/event/3628
LOCATION:Boulez- Saal\, Berlin
CATEGORIES:Quartet Concert
END:VEVENT
BEGIN:VEVENT
DTSTART;TZID=UTC:20210227T160000
DTEND;TZID=UTC:20210227T160000
DTSTAMP:20260424T203131
CREATED:20210112T144100Z
LAST-MODIFIED:20210130T085347Z
UID:3637-1614441600-1614441600@ardittiquartet.com
SUMMARY:South Bank\, London  27 February 2021
DESCRIPTION:Concert in Soundscape Festival \nBetsy Jolas: quartet no. VIII Topeng\nTansy Davies: Nightingales: Ultra deep field\nClara Maida: Das Spinnt\nChristian Mason: This present moment used to be the unimaginable future
URL:https://ardittiquartet.com/event/south-bank-london
LOCATION:Purcell Room
CATEGORIES:Quartet Concert
END:VEVENT
END:VCALENDAR