BEGIN:VCALENDAR
VERSION:2.0
PRODID:-//Arditti Quartet - ECPv6.15.15//NONSGML v1.0//EN
CALSCALE:GREGORIAN
METHOD:PUBLISH
X-ORIGINAL-URL:https://ardittiquartet.com
X-WR-CALDESC:Events for Arditti Quartet
REFRESH-INTERVAL;VALUE=DURATION:PT1H
X-Robots-Tag:noindex
X-PUBLISHED-TTL:PT1H
BEGIN:VTIMEZONE
TZID:UTC
BEGIN:STANDARD
TZOFFSETFROM:+0000
TZOFFSETTO:+0000
TZNAME:UTC
DTSTART:20190101T000000
END:STANDARD
END:VTIMEZONE
BEGIN:VEVENT
DTSTART;TZID=UTC:20201009T213000
DTEND;TZID=UTC:20201009T213000
DTSTAMP:20260424T160552
CREATED:20201104T182133Z
LAST-MODIFIED:20210127T163844Z
UID:2619-1602279000-1602279000@ardittiquartet.com
SUMMARY:Graz\, Austria
DESCRIPTION:Gadenstätter Paramyths (Haeuten\, Schlitzen\, Reissen)
URL:https://ardittiquartet.com/event/graz-austria
LOCATION:Helmut List Hall
CATEGORIES:Quartet Concert
END:VEVENT
BEGIN:VEVENT
DTSTART;TZID=UTC:20201011T170000
DTEND;TZID=UTC:20201011T170000
DTSTAMP:20260424T160552
CREATED:20201104T182133Z
LAST-MODIFIED:20210127T163844Z
UID:2620-1602435600-1602435600@ardittiquartet.com
SUMMARY:Berlin\, Germany
DESCRIPTION:Saariaho Terra Memoria\nJolas quartet no. VIII Topeng\nChin ParaMetaStrings\nTansy Davies Nightingales: Ultra deep field (premiere)
URL:https://ardittiquartet.com/event/berlin-germany
LOCATION:Kammermusiksaal\, Philharmonie
CATEGORIES:Quartet Concert
END:VEVENT
BEGIN:VEVENT
DTSTART;TZID=UTC:20201015T193000
DTEND;TZID=UTC:20201015T193000
DTSTAMP:20260424T160552
CREATED:20201104T182133Z
LAST-MODIFIED:20210127T163844Z
UID:2621-1602790200-1602790200@ardittiquartet.com
SUMMARY:Turin\, Italy
DESCRIPTION:Lachenmann Quartet No.1 Gran Torso\nLachenmann Pression for cello\nLachenmann Quartet No.3 Grido
URL:https://ardittiquartet.com/event/turin-italy
LOCATION:Estovest Festival
CATEGORIES:Quartet Concert
END:VEVENT
BEGIN:VEVENT
DTSTART;TZID=UTC:20201022T200000
DTEND;TZID=UTC:20201022T200000
DTSTAMP:20260424T160552
CREATED:20201104T182133Z
LAST-MODIFIED:20210127T163844Z
UID:2622-1603396800-1603396800@ardittiquartet.com
SUMMARY:Gent\, Belgium
DESCRIPTION:Crawford Quartet\nHaas 6\nJenny Walshe Everything is Important
URL:https://ardittiquartet.com/event/gent-belgium
LOCATION:Bijloke with Jenny Walshe
CATEGORIES:Quartet Concert
END:VEVENT
END:VCALENDAR