BEGIN:VCALENDAR
VERSION:2.0
PRODID:-//Arditti Quartet - ECPv6.15.15//NONSGML v1.0//EN
CALSCALE:GREGORIAN
METHOD:PUBLISH
X-ORIGINAL-URL:https://ardittiquartet.com
X-WR-CALDESC:Events for Arditti Quartet
REFRESH-INTERVAL;VALUE=DURATION:PT1H
X-Robots-Tag:noindex
X-PUBLISHED-TTL:PT1H
BEGIN:VTIMEZONE
TZID:UTC
BEGIN:STANDARD
TZOFFSETFROM:+0000
TZOFFSETTO:+0000
TZNAME:UTC
DTSTART:20190101T000000
END:STANDARD
END:VTIMEZONE
BEGIN:VEVENT
DTSTART;TZID=UTC:20200822T183000
DTEND;TZID=UTC:20200822T203000
DTSTAMP:20260424T125717
CREATED:20201105T182133Z
LAST-MODIFIED:20220621T082704Z
UID:2610-1598121000-1598128200@ardittiquartet.com
SUMMARY:Hellerau\, Germany  22 August 2020
DESCRIPTION:Carter Quartet no.5\nFelder Quartet no.1 Third Face\nBirtwistle The Silk House Sequences
URL:https://ardittiquartet.com/event/hellerau-germany
LOCATION:European Centre for Art
CATEGORIES:Quartet Concert
END:VEVENT
BEGIN:VEVENT
DTSTART;TZID=UTC:20200823T193000
DTEND;TZID=UTC:20200823T213000
DTSTAMP:20260424T125717
CREATED:20201106T182133Z
LAST-MODIFIED:20220621T082756Z
UID:2611-1598211000-1598218200@ardittiquartet.com
SUMMARY:Eisenach\, Germany  23 August 2020
DESCRIPTION:Dusapin Quartet no.5\nFelder Quartet no.1 Third Face\nKurtag 12 Microludien op. 13\nLigeti Quartet no.2
URL:https://ardittiquartet.com/event/eisenach-germany
LOCATION:Stadtschloss
CATEGORIES:Quartet Concert
END:VEVENT
BEGIN:VEVENT
DTSTART;TZID=UTC:20200826T190000
DTEND;TZID=UTC:20200826T210000
DTSTAMP:20260424T125717
CREATED:20201106T182133Z
LAST-MODIFIED:20220621T082821Z
UID:2612-1598468400-1598475600@ardittiquartet.com
SUMMARY:Bad Homburg\, Germany  26 August 2020
DESCRIPTION:Dutilleux Ainsi la Nuit\nMundry Linien\, Zeichnungen\nClarke 5 (premiere)\nRihm 3 Im Innersten
URL:https://ardittiquartet.com/event/bad-homburg-germany
LOCATION:Orangerie im Kurpark
CATEGORIES:Quartet Concert
END:VEVENT
BEGIN:VEVENT
DTSTART;TZID=UTC:20200827T193000
DTEND;TZID=UTC:20200827T213000
DTSTAMP:20260424T125717
CREATED:20201108T182133Z
LAST-MODIFIED:20220621T082841Z
UID:2613-1598556600-1598563800@ardittiquartet.com
SUMMARY:Edenkoben\, Germany  27 August 2020
DESCRIPTION:Dutilleux Ainsi la Nuit\nMundry Linien\, Zeichnungen\nParedes Hacia una bitacora capilar\nClarke String quartet Nr. 6 (premiere)\nRihm 3 Im Innersten
URL:https://ardittiquartet.com/event/edenkoben-germany
LOCATION:Church Edenkoben
CATEGORIES:Quartet Concert
END:VEVENT
BEGIN:VEVENT
DTSTART;TZID=UTC:20200829T193000
DTEND;TZID=UTC:20200829T193000
DTSTAMP:20260424T125717
CREATED:20201109T182133Z
LAST-MODIFIED:20220621T082903Z
UID:2615-1598729400-1598729400@ardittiquartet.com
SUMMARY:Weingarten\, Germany
DESCRIPTION:Nono Fragmente-Stille\nZender Mnemosyne\nHölderlin lesen IV
URL:https://ardittiquartet.com/event/weingarten-germany
LOCATION:Aula Pädagogische Hochschule
CATEGORIES:Quartet Concert
END:VEVENT
END:VCALENDAR